BEGIN:VCALENDAR
VERSION:2.0
PRODID:-//ChamberMaster//Event Calendar 2.0//EN
METHOD:PUBLISH
X-PUBLISHED-TTL:P3D
REFRESH-INTERVAL:P3D
CALSCALE:GREGORIAN
BEGIN:VEVENT
DTSTART:20241207T203000Z
DTEND:20241207T230000Z
X-MICROSOFT-CDO-ALLDAYEVENT:FALSE
SUMMARY:Nutcracker Ballet
DESCRIPTION:Nutcracker Ballet\n\n\n\n\n\nTheatre of Ballet Arts presents a live ballet theater story about a little girl who receives a special gift from her uncle at the Stahlbaum Christmas party and her "adventure" of that night. There will be two performances\, 2:30 & 7:30 pm.
X-ALT-DESC;FMTTYPE=text/html:<div style="text-align: center\;"><span style="color:#003300\;"><strong><span style="font-size:22px\;">Nutcracker Ballet</span></strong></span><br />\n<br />\n<br />\n<span style="font-size:18px\;">Theatre of Ballet Arts presents a live ballet theater story about a little girl who receives a special gift from her uncle at the Stahlbaum Christmas party and her &ldquo\;adventure&rdquo\; of that night. There will be two performances\, 2:30 &amp\; 7:30 pm.</span></div>\n
LOCATION:Platteville Municipal Auditorium
UID:e.345.2488
SEQUENCE:3
DTSTAMP:20260422T214904Z
URL:http://plattevillechamber.chambermaster.com/events/details/nutcracker-ballet-2488
END:VEVENT

END:VCALENDAR
